BEGIN:VCALENDAR
VERSION:2.0
PRODID:-//British Columbia Wine Grape Council - ECPv6.11.0.1//NONSGML v1.0//EN
CALSCALE:GREGORIAN
METHOD:PUBLISH
X-WR-CALNAME:British Columbia Wine Grape Council
X-ORIGINAL-URL:https://bcwgc.org
X-WR-CALDESC:Events for British Columbia Wine Grape Council
REFRESH-INTERVAL;VALUE=DURATION:PT1H
X-Robots-Tag:noindex
X-PUBLISHED-TTL:PT1H
BEGIN:VTIMEZONE
TZID:America/Vancouver
BEGIN:DAYLIGHT
TZOFFSETFROM:-0800
TZOFFSETTO:-0700
TZNAME:PDT
DTSTART:20260308T100000
END:DAYLIGHT
BEGIN:STANDARD
TZOFFSETFROM:-0700
TZOFFSETTO:-0800
TZNAME:PST
DTSTART:20261101T090000
END:STANDARD
END:VTIMEZONE
BEGIN:VEVENT
DTSTART;TZID=America/Vancouver:20260115T120000
DTEND;TZID=America/Vancouver:20260115T130000
DTSTAMP:20260421T165706
CREATED:20260107T185145Z
LAST-MODIFIED:20260107T185220Z
UID:10000025-1768478400-1768482000@bcwgc.org
SUMMARY:BCWGC January 15\, 2026 R&D Committee Meeting
DESCRIPTION:January 15\, 2026 – 12:00 – 1:00 – Dr. Joanna Fountain\, Lincoln University\, NZ – Climate change impacts and adaptation options in cool climate wine regions: from knowledge to action \nBio/Introduction \nDr. Jo Fountain\, is an Associate Professor at Lincoln University in Aotearoa New Zealand. She is a rural social scientist with diverse research interests focused on analysis of change and resilience in primary industries\, tourism systems\, and communities located in rural regions. Current projects include analysis of destination and tourist resilience in the face of natural hazard risks and ongoing and intensifying climate variability\, and the changing shape of the wine industry in the context of climate change. Jo has been involved in cross-cultural and international research collaboration with colleagues in China/Hong Kong\, Australia\, Europe and Canada. \nClimate change impacts and adaptation options in cool climate wine regions: from knowledge to action \nThe overall goal of this presentation is to explore synergies and opportunities for ongoing collaboration between New Zealand researchers and the goals of the BCGWC Climate Resilience Working Group. The current presentation will summarise preliminary findings from surveys and interviews conducted in the Okanagan wine region in summer 2025 as part of a larger project comparing experiences and opinions of New Zealand and Okanagan wine producers. \nDr Fountain will also discuss the recognised challenges in converting climate change knowledge to implementation of short and longer-term adaptation activities\, and outline a new five-year multi-disciplinary project which aims to address the ‘Adaptation Gap’ in the New Zealand context.  \nRegister here
URL:https://bcwgc.org/event/bcwgc-december-15-2025-rd-committee-meeting/
LOCATION:Zoom
CATEGORIES:Research Updates
ORGANIZER;CN="BC Wine Grape Council":MAILTO:info@bcwgc.org
END:VEVENT
END:VCALENDAR