BEGIN:VCALENDAR
VERSION:2.0
PRODID:-//British Columbia Wine Grape Council - ECPv6.11.0.1//NONSGML v1.0//EN
CALSCALE:GREGORIAN
METHOD:PUBLISH
X-WR-CALNAME:British Columbia Wine Grape Council
X-ORIGINAL-URL:https://bcwgc.org
X-WR-CALDESC:Events for British Columbia Wine Grape Council
REFRESH-INTERVAL;VALUE=DURATION:PT1H
X-Robots-Tag:noindex
X-PUBLISHED-TTL:PT1H
BEGIN:VTIMEZONE
TZID:America/Vancouver
BEGIN:DAYLIGHT
TZOFFSETFROM:-0800
TZOFFSETTO:-0700
TZNAME:PDT
DTSTART:20250309T100000
END:DAYLIGHT
BEGIN:STANDARD
TZOFFSETFROM:-0700
TZOFFSETTO:-0800
TZNAME:PST
DTSTART:20251102T090000
END:STANDARD
END:VTIMEZONE
BEGIN:VEVENT
DTSTART;TZID=America/Vancouver:20251016T120000
DTEND;TZID=America/Vancouver:20251016T130000
DTSTAMP:20260421T212746
CREATED:20250909T184530Z
LAST-MODIFIED:20250909T184530Z
UID:10000021-1760616000-1760619600@bcwgc.org
SUMMARY:October 2025 BCWGC R&D Committee Meeting
DESCRIPTION:Dr. Mehdi Sharifi\, AAFC – Ground Cover Management and Sustainability in European Vineyards: Insights from the GiESCO 2025 Conference \nGiESCO is an internationally recognized event focused on viticulture and enology\, with presentations from researchers around the world. In 2025\, there were over 350 attendees\, and the main theme was sustainability and climate change. Dr. Sharifi attended as a delegate representing Canadian viticulture and will be sharing his learnings from the conference including photos\, vineyard practices and highlights. This will be a fun practical presentation showing how European vineyards are approaching sustainability using groundcover management.
URL:https://bcwgc.org/event/october-2025-bcwgc-rd-committee-meeting/
LOCATION:Zoom
CATEGORIES:Research Updates
END:VEVENT
END:VCALENDAR