BEGIN:VCALENDAR
VERSION:2.0
PRODID:-//British Columbia Wine Grape Council - ECPv6.11.0.1//NONSGML v1.0//EN
CALSCALE:GREGORIAN
METHOD:PUBLISH
X-ORIGINAL-URL:https://bcwgc.org
X-WR-CALDESC:Events for British Columbia Wine Grape Council
REFRESH-INTERVAL;VALUE=DURATION:PT1H
X-Robots-Tag:noindex
X-PUBLISHED-TTL:PT1H
BEGIN:VTIMEZONE
TZID:America/Vancouver
BEGIN:DAYLIGHT
TZOFFSETFROM:-0800
TZOFFSETTO:-0700
TZNAME:PDT
DTSTART:20250309T100000
END:DAYLIGHT
BEGIN:STANDARD
TZOFFSETFROM:-0700
TZOFFSETTO:-0800
TZNAME:PST
DTSTART:20251102T090000
END:STANDARD
END:VTIMEZONE
BEGIN:VEVENT
DTSTART;TZID=America/Vancouver:20250918T120000
DTEND;TZID=America/Vancouver:20250918T130000
DTSTAMP:20260421T212747
CREATED:20250909T184340Z
LAST-MODIFIED:20250910T184009Z
UID:10000020-1758196800-1758200400@bcwgc.org
SUMMARY:September 2025 BCWGC R&D Meeting
DESCRIPTION:Dr. Mark Paul Selda Rivarez\, UBC – An Ilarvirus with Five Names and the Need for On-site\, High-throughput Virus Diagnostics in Grapes \nDr. Mark Paul Selda Rivarez\, the new Assistant Professor of Phytopathology and Virology at UBC\, will introduce a proactive approach to protecting the BC wine grape industry from a new generation of complex viral threats. \nUsing the recently discovered Solanum nigrum ilarvirus 1 (SnIV1) as a key case study\, Dr. Rivarez will examine the challenges presented by emerging pathogens that can bypass traditional clean plant protocols. With confirmed detections in European grapevines and unconventional transmission pathways such as seed and pollen\, SnIV1 emphasizes the need for more advanced diagnostic technologies to safeguard BC’s vineyards. The presentation will then introduce “PlantDx\,” a Genome BC proposal for a portable genomic toolkit. This platform will utilize portable sequencing technology to bring diagnostics from the lab to the vineyard\, allowing for rapid\, on-site identification of both known and new viruses. \nJoin us to discover how this research can boost our clean plant initiatives\, enhance biosecurity\, and secure the long-term health and profitability of the BC wine grape industry.
URL:https://bcwgc.org/event/september-2025-bcwgc-rd-meeting/
LOCATION:Zoom
CATEGORIES:Research Updates
END:VEVENT
END:VCALENDAR