BEGIN:VCALENDAR
VERSION:2.0
PRODID:-//British Columbia Wine Grape Council - ECPv6.11.0.1//NONSGML v1.0//EN
CALSCALE:GREGORIAN
METHOD:PUBLISH
X-WR-CALNAME:British Columbia Wine Grape Council
X-ORIGINAL-URL:https://bcwgc.org
X-WR-CALDESC:Events for British Columbia Wine Grape Council
REFRESH-INTERVAL;VALUE=DURATION:PT1H
X-Robots-Tag:noindex
X-PUBLISHED-TTL:PT1H
BEGIN:VTIMEZONE
TZID:America/Vancouver
BEGIN:DAYLIGHT
TZOFFSETFROM:-0800
TZOFFSETTO:-0700
TZNAME:PDT
DTSTART:20250309T100000
END:DAYLIGHT
BEGIN:STANDARD
TZOFFSETFROM:-0700
TZOFFSETTO:-0800
TZNAME:PST
DTSTART:20251102T090000
END:STANDARD
END:VTIMEZONE
BEGIN:VEVENT
DTSTART;TZID=America/Vancouver:20250624T090000
DTEND;TZID=America/Vancouver:20250624T103000
DTSTAMP:20260422T020914
CREATED:20250619T161803Z
LAST-MODIFIED:20250619T164457Z
UID:10000010-1750755600-1750761000@bcwgc.org
SUMMARY:Upcoming Webinar: Heading North – Viticulture's Search for Cooler Climatees
DESCRIPTION:Join us for a conversation on the future of viticulture in a changing climate. This webinar will spotlight Vivai Cooperativi Rauscedo (VCR) and explore ongoing research projects\, disease-resistant grape varieties\, and rootstocks tailored for cooler growing regions. \nDate: Tue\, Jun 24\, 2025 9:00 AM – 10:30 AM PDTAudience: Wine industry professionals across the US and CanadaLanguage: EnglishRegister here: Heading North Webinar Registration \nWe would greatly appreciate your help in sharing this opportunity with colleagues\, researchers\, and industry contacts who may be interested in attending.
URL:https://bcwgc.org/event/upcoming-webinar-heading-north-viticultures-search-for-cooler-climes/
LOCATION:Online
CATEGORIES:Research Updates
END:VEVENT
END:VCALENDAR