BEGIN:VCALENDAR
VERSION:2.0
PRODID:-//British Columbia Wine Grape Council - ECPv6.11.0.1//NONSGML v1.0//EN
CALSCALE:GREGORIAN
METHOD:PUBLISH
X-WR-CALNAME:British Columbia Wine Grape Council
X-ORIGINAL-URL:https://bcwgc.org
X-WR-CALDESC:Events for British Columbia Wine Grape Council
REFRESH-INTERVAL;VALUE=DURATION:PT1H
X-Robots-Tag:noindex
X-PUBLISHED-TTL:PT1H
BEGIN:VTIMEZONE
TZID:America/Vancouver
BEGIN:DAYLIGHT
TZOFFSETFROM:-0800
TZOFFSETTO:-0700
TZNAME:PDT
DTSTART:20250309T100000
END:DAYLIGHT
BEGIN:STANDARD
TZOFFSETFROM:-0700
TZOFFSETTO:-0800
TZNAME:PST
DTSTART:20251102T090000
END:STANDARD
END:VTIMEZONE
BEGIN:VEVENT
DTSTART;TZID=America/Vancouver:20250515T120000
DTEND;TZID=America/Vancouver:20250515T130000
DTSTAMP:20260422T033635
CREATED:20250424T203532Z
LAST-MODIFIED:20250424T203532Z
UID:10000004-1747310400-1747314000@bcwgc.org
SUMMARY:BCWGC May 15\, 2025 R&D Committee Meeting
DESCRIPTION:May 15\, 2025 – 12:00 – 1:00 – Dr. Asim Renyard\, Introduction and update on the grape entomology program at AAFC Summerland  \nDr. Asim Renyard is the new Research Scientist – Entomologist for grapes and tree fruits at the AAFC Summerland Research and Development Centre. Dr. Renyard’s work focusses on insect behaviour\, ecology\, and pest management. Prior to joining AAFC\, his research spanned diverse systems including forests and urban settings where he studied the behaviour and pest management of ants. At AAFC his lab’s research on grape entomology will focus on understanding grape pest phenology and their role in vectoring grapevine diseases. Additionally\, his lab will explore how naturally occurring vegetation or experimentally manipulated cover crops affect the abundance of pests and beneficial insects. \nRegister here: https://us06web.zoom.us/meeting/register/DkIlrUEwTians47niNrX-g
URL:https://bcwgc.org/event/bcwgc-may-15-2025-rd-committee-meeting/
LOCATION:Zoom
CATEGORIES:Research Updates
ORGANIZER;CN="BC Wine Grape Council":MAILTO:info@bcwgc.org
END:VEVENT
BEGIN:VEVENT
DTSTART;TZID=America/Vancouver:20250522T100000
DTEND;TZID=America/Vancouver:20250522T230000
DTSTAMP:20260422T033635
CREATED:20250509T160432Z
LAST-MODIFIED:20250509T160432Z
UID:10000006-1747908000-1747954800@bcwgc.org
SUMMARY:Optimization of grape production in Eastern Canada
DESCRIPTION:This webinar is part of a mini-series dedicated to highlighting final results from some of the research projects completed under the CAP Grape & Wine Cluster (2018-2023). We will focus on Activity 9: “Optimization of Grape Production in Eastern Canada.” The presentation will be provided by Dr. Karine Pedneault from L’Université du Québec en Outaouais (UQO). \nClimate is the most important element when growing grapes in cool to cold areas such as those found in Eastern Canada. Although several practices are in place to increase crop quality and productivity\, many unknowns remain regarding this industry. Understanding how climate affects berry quality is an essential step to better understand cold-climate terroir and how to optimize the relationship between growing conditions and grape varieties to then optimize wine quality. \nAttendees can submit questions when registering\, as well as during the webinar. We hope you will join us! \nDate: Thursday\, May 22nd\, 2025\nTime: 1:00pm to 2:00pm Eastern time\nLocation: Zoom webinar\nThe webinar is free to attend but registration is required!\nCLICK HERE TO REGISTER \n 
URL:https://bcwgc.org/event/optimization-of-grape-production-in-eastern-canada/
LOCATION:Zoom
CATEGORIES:Research Updates
END:VEVENT
END:VCALENDAR